BEGIN:VCALENDAR
VERSION:2.0
PRODID:-//CAHNRS For All - ECPv5.9.0//NONSGML v1.0//EN
CALSCALE:GREGORIAN
METHOD:PUBLISH
X-WR-CALNAME:CAHNRS For All
X-ORIGINAL-URL:https://cahnrs.wsu.edu/cahnrsforall
X-WR-CALDESC:Events for CAHNRS For All
BEGIN:VTIMEZONE
TZID:America/Los_Angeles
BEGIN:DAYLIGHT
TZOFFSETFROM:-0800
TZOFFSETTO:-0700
TZNAME:PDT
DTSTART:20250309T100000
END:DAYLIGHT
BEGIN:STANDARD
TZOFFSETFROM:-0700
TZOFFSETTO:-0800
TZNAME:PST
DTSTART:20251102T090000
END:STANDARD
END:VTIMEZONE
BEGIN:VEVENT
DTSTART;TZID=America/Los_Angeles:20250417T130000
DTEND;TZID=America/Los_Angeles:20250417T140000
DTSTAMP:20260420T222409
CREATED:20250410T191823Z
LAST-MODIFIED:20250410T191841Z
UID:2080-1744894800-1744898400@cahnrs.wsu.edu
SUMMARY:CAHNRS Monthly Get Together - Autism Awareness Month
DESCRIPTION:Join via Zoom \nhttps://wsu.zoom.us/j/98270603252?pwd=kAE1wFtvk9gJVLaafdjAK01jVqV0Ml.1&from=addon \nMeeting ID: 982 7060 3252\nPasscode: 993948
URL:https://cahnrs.wsu.edu/cahnrsforall/event/cahnrs-monthly-get-together-autism-awareness-month-2/
END:VEVENT
END:VCALENDAR