BEGIN:VCALENDAR
VERSION:2.0
PRODID:-//CAHNRS For All - ECPv5.9.0//NONSGML v1.0//EN
CALSCALE:GREGORIAN
METHOD:PUBLISH
X-WR-CALNAME:CAHNRS For All
X-ORIGINAL-URL:https://cahnrs.wsu.edu/cahnrsforall
X-WR-CALDESC:Events for CAHNRS For All
BEGIN:VTIMEZONE
TZID:America/Los_Angeles
BEGIN:DAYLIGHT
TZOFFSETFROM:-0800
TZOFFSETTO:-0700
TZNAME:PDT
DTSTART:20250309T100000
END:DAYLIGHT
BEGIN:STANDARD
TZOFFSETFROM:-0700
TZOFFSETTO:-0800
TZNAME:PST
DTSTART:20251102T090000
END:STANDARD
END:VTIMEZONE
BEGIN:VEVENT
DTSTART;TZID=America/Los_Angeles:20250415T120000
DTEND;TZID=America/Los_Angeles:20250415T130000
DTSTAMP:20260421T050650
CREATED:20250408T223842Z
LAST-MODIFIED:20250410T192213Z
UID:2038-1744718400-1744722000@cahnrs.wsu.edu
SUMMARY:Tribal-University Relations: Reckoning with the Land Grab University – Part of the Building CAHNRS For All Speaker Series
DESCRIPTION:April 15th 12:00 – 1:00 via Zoom \nJoin us for an engaging session delving into the research design and findings of the Towards Recognition and University-Tribal Healing (TRUTH) Project\, featuring the coordinator of the project\, Misty Blue. This session will also include some of the impacts made following the release of the TRUTH Project Final Report in April 2023\, and some recommendations made to university leadership. \nBiography: \nMisty Blue\, MPH\, citizen of the White Earth Nation and appointed by the Minnesota Indian Affairs Council (MIAC) coordinated the Towards Recognition and University-Tribal Healing (TRUTH) project. She assembled a team of Native scholars who have examined the past\, present\, and future of Tribal-University relations since the University opened in 1851. These Tribal Research Fellows conducted place-based\, tribally-based research using archival and indigenous methodologies around a self-determined topic. Each Tribal Research Fellow presented their experience and their findings at the TRUTH Project Symposium in May 2022. The TRUTH Project Final Report\, entitled Oshkigin Noojimo’iwe\, Naġi Waƞ P̣etu Uƞ Ihduwaṡ‘ake He Oyate Kiƞ Zaniwic̣aye Kte\, was released in April 2023. Misty is a Senior Strategist at Grassroots Solutions and continues to examine Tribal-University Relations. \nPlease reach out to cahnrs.forall@wsu.edu for any questions about this event.
URL:https://cahnrs.wsu.edu/cahnrsforall/event/tribal-university-relations-reckoning-with-the-land-grab-university-part-of-the-building-cahnrs-for-all-speaker-series/
END:VEVENT
END:VCALENDAR